BEGIN:VCALENDAR
VERSION:2.0
PRODID:-//A WordPress Site - ECPv6.15.20//NONSGML v1.0//EN
CALSCALE:GREGORIAN
METHOD:PUBLISH
X-WR-CALNAME:A WordPress Site
X-ORIGINAL-URL:https://sunflourandthyme.com
X-WR-CALDESC:Events for A WordPress Site
REFRESH-INTERVAL;VALUE=DURATION:PT1H
X-Robots-Tag:noindex
X-PUBLISHED-TTL:PT1H
BEGIN:VTIMEZONE
TZID:UTC
BEGIN:STANDARD
TZOFFSETFROM:+0000
TZOFFSETTO:+0000
TZNAME:UTC
DTSTART:20240101T000000
END:STANDARD
END:VTIMEZONE
BEGIN:VEVENT
DTSTART;TZID=UTC:20251030T080000
DTEND;TZID=UTC:20251030T170000
DTSTAMP:20260420T154445
CREATED:20251022T153628Z
LAST-MODIFIED:20251029T091626Z
UID:1063-1761811200-1761843600@sunflourandthyme.com
SUMMARY:Holiday Cookie Pop-Up
DESCRIPTION:Celebrate the season with Sunflour & Thyme at our festive holiday market in downtown Phoenix! Discover handcrafted sugar cookies decorated with winter cheer — perfect for gifts\, gatherings\, and a little self-treat. Each cookie is made fresh with love\, featuring classic favorites and limited-edition designs inspired by the magic of the holidays. \n\n\n\nCome watch live decorating demos\, enjoy warm cocoa\, and meet local makers who share our passion for handmade joy. Whether you’re picking up a gift box or simply stopping by to say hello\, we can’t wait to share something sweet with you.
URL:https://sunflourandthyme.com/event/holiday-cookie-pop-up/
LOCATION:Phillips Field\, 3703 Templeton St\, Greenville\, TX\, United States
CATEGORIES:Custom Order Events
ATTACH;FMTTYPE=image/png:https://sunflourandthyme.com/wp-content/uploads/2025/10/therapeutic-massage-therapy-2025-10-22T182518.154.png
END:VEVENT
BEGIN:VEVENT
DTSTART;TZID=UTC:20251028T100000
DTEND;TZID=UTC:20251028T170000
DTSTAMP:20260420T154445
CREATED:20251022T154559Z
LAST-MODIFIED:20251029T091626Z
UID:1089-1761645600-1761670800@sunflourandthyme.com
SUMMARY:Halloween Cookie Workshop
DESCRIPTION:Join Sunflour & Thyme at the Phoenix Farmers Market for a spooktacular day of cookies and creativity! Discover our limited-edition Halloween cookie sets featuring playful ghosts\, pumpkins\, and candy-inspired designs — all handcrafted with love and a hint of mischief. \n\n\n\nWatch live decorating demos\, meet Sarah\, and see how each cookie comes to life with color and detail. Grab a sweet treat\, take photos at our festive booth\, and shop other local makers celebrating the season. Whether you’re visiting with family or friends\, it’s the perfect way to add a little extra sweetness to your Halloween weekend!
URL:https://sunflourandthyme.com/event/https-sunflourandthyme-houseofwise-org-wp-admin-post-phppost1089actionedit/
LOCATION:Phillips Field\, 3703 Templeton St\, Greenville\, TX\, United States
CATEGORIES:Community & Workshops
ATTACH;FMTTYPE=image/png:https://sunflourandthyme.com/wp-content/uploads/2025/10/therapeutic-massage-therapy-2025-10-22T180504.200.png
END:VEVENT
BEGIN:VEVENT
DTSTART;TZID=UTC:20251026T090000
DTEND;TZID=UTC:20251026T160000
DTSTAMP:20260420T154445
CREATED:20251022T153809Z
LAST-MODIFIED:20251029T091626Z
UID:1067-1761469200-1761494400@sunflourandthyme.com
SUMMARY:Autumn Cookie Market
DESCRIPTION:Join us for a day of sweetness at the Phoenix Farmers Market! Sunflour & Thyme will be featuring our limited-edition autumn cookie sets — think pumpkins\, leaves\, and cozy fall flavors. Each design is handcrafted and freshly baked\, perfect for gifts\, gatherings\, or a little treat for yourself. \n\n\n\nEnjoy live music\, local vendors\, and a warm community atmosphere while sampling our seasonal cookies. From buttery vanilla to spiced cinnamon\, there’s a flavor for every mood. Stop by our booth\, meet Sarah\, and discover how every cookie is made with a sprinkle of love and creativity. Don’t forget to grab your favorite set before it sells out — because the best cookies of the season don’t last long!
URL:https://sunflourandthyme.com/event/trick-roping/
LOCATION:Phillips Field\, 3703 Templeton St\, Greenville\, TX\, United States
CATEGORIES:Seasonal Markets
ATTACH;FMTTYPE=image/png:https://sunflourandthyme.com/wp-content/uploads/2025/10/therapeutic-massage-therapy-2025-10-22T183930.860.png
END:VEVENT
END:VCALENDAR